BEGIN:VCALENDAR
VERSION:2.0
PRODID:-//Caister Parish Council//Meeting Calendar//EN
CALSCALE:GREGORIAN
METHOD:PUBLISH
BEGIN:VEVENT
UID:72019-20240205@caisterparishcouncil.gov.uk
DTSTAMP:20260422T194426Z
DTSTART;VALUE=DATE:20240205
DTEND;VALUE=DATE:20240206
SUMMARY:Full Council &#8211\\; Monday 5 February 2024
DESCRIPTION:Full Council Meeting\nView details: https://caisterparishcouncil.gov.uk/meetings/full-council-monday-5-february-2024/
URL:https://caisterparishcouncil.gov.uk/meetings/full-council-monday-5-february-2024/
END:VEVENT
END:VCALENDAR
