BEGIN:VCALENDAR
VERSION:2.0
PRODID:-//Caister Parish Council//Meeting Calendar//EN
CALSCALE:GREGORIAN
METHOD:PUBLISH
BEGIN:VEVENT
UID:72015-20231204@caisterparishcouncil.gov.uk
DTSTAMP:20260422T232200Z
DTSTART;VALUE=DATE:20231204
DTEND;VALUE=DATE:20231205
SUMMARY:Full Council &#8211\\; Monday 4 December 2023
DESCRIPTION:Full Council Meeting\nView details: https://caisterparishcouncil.gov.uk/meetings/full-council-monday-4-december-2023/
URL:https://caisterparishcouncil.gov.uk/meetings/full-council-monday-4-december-2023/
END:VEVENT
END:VCALENDAR
