BEGIN:VCALENDAR
VERSION:2.0
PRODID:-//Caister Parish Council//Meeting Calendar//EN
CALSCALE:GREGORIAN
METHOD:PUBLISH
BEGIN:VEVENT
UID:72013-20231113@caisterparishcouncil.gov.uk
DTSTAMP:20260423T011348Z
DTSTART;VALUE=DATE:20231113
DTEND;VALUE=DATE:20231114
SUMMARY:Full Council &#8211\\; Monday 13 November 2023
DESCRIPTION:Full Council Meeting\nView details: https://caisterparishcouncil.gov.uk/meetings/full-council-monday-13-november-2023/
URL:https://caisterparishcouncil.gov.uk/meetings/full-council-monday-13-november-2023/
END:VEVENT
END:VCALENDAR
