BEGIN:VCALENDAR
VERSION:2.0
PRODID:-//Caister Parish Council//Meeting Calendar//EN
CALSCALE:GREGORIAN
METHOD:PUBLISH
BEGIN:VEVENT
UID:72011-20231002@caisterparishcouncil.gov.uk
DTSTAMP:20260423T030808Z
DTSTART;VALUE=DATE:20231002
DTEND;VALUE=DATE:20231003
SUMMARY:Full Council &#8211\\; Monday 2 October 2023
DESCRIPTION:Full Council Meeting\nView details: https://caisterparishcouncil.gov.uk/meetings/full-council-monday-2-october-2023/
URL:https://caisterparishcouncil.gov.uk/meetings/full-council-monday-2-october-2023/
END:VEVENT
END:VCALENDAR
