BEGIN:VCALENDAR
VERSION:2.0
PRODID:-//Caister Parish Council//Meeting Calendar//EN
CALSCALE:GREGORIAN
METHOD:PUBLISH
BEGIN:VEVENT
UID:72009-20230904@caisterparishcouncil.gov.uk
DTSTAMP:20260423T051418Z
DTSTART;VALUE=DATE:20230904
DTEND;VALUE=DATE:20230905
SUMMARY:Full Council &#8211\\; Monday 4 September 2023
DESCRIPTION:Full Council Meeting\nView details: https://caisterparishcouncil.gov.uk/meetings/full-council-monday-4-september-2023/
URL:https://caisterparishcouncil.gov.uk/meetings/full-council-monday-4-september-2023/
END:VEVENT
END:VCALENDAR
