BEGIN:VCALENDAR
VERSION:2.0
PRODID:-//Caister Parish Council//Meeting Calendar//EN
CALSCALE:GREGORIAN
METHOD:PUBLISH
BEGIN:VEVENT
UID:72007-20230807@caisterparishcouncil.gov.uk
DTSTAMP:20260423T070354Z
DTSTART;VALUE=DATE:20230807
DTEND;VALUE=DATE:20230808
SUMMARY:Full Council &#8211\\; Monday 7 August 2023
DESCRIPTION:Full Council Meeting\nView details: https://caisterparishcouncil.gov.uk/meetings/full-council-monday-7-august-2023/
URL:https://caisterparishcouncil.gov.uk/meetings/full-council-monday-7-august-2023/
END:VEVENT
END:VCALENDAR
